BEGIN:VCALENDAR
VERSION:2.0
PRODID:-//Placencia Humane Society - ECPv6.15.20//NONSGML v1.0//EN
CALSCALE:GREGORIAN
METHOD:PUBLISH
X-WR-CALNAME:Placencia Humane Society
X-ORIGINAL-URL:https://placenciahumanesociety.org
X-WR-CALDESC:Events for Placencia Humane Society
REFRESH-INTERVAL;VALUE=DURATION:PT1H
X-Robots-Tag:noindex
X-PUBLISHED-TTL:PT1H
BEGIN:VTIMEZONE
TZID:America/Belize
BEGIN:STANDARD
TZOFFSETFROM:-0600
TZOFFSETTO:-0600
TZNAME:CST
DTSTART:20250101T000000
END:STANDARD
END:VTIMEZONE
BEGIN:VEVENT
DTSTART;VALUE=DATE:20260703
DTEND;VALUE=DATE:20260706
DTSTAMP:20260419T113603
CREATED:20260310T172747Z
LAST-MODIFIED:20260310T172747Z
UID:5025-1783036800-1783295999@placenciahumanesociety.org
SUMMARY:Lobster Fest
DESCRIPTION:
URL:https://placenciahumanesociety.org/event/lobster-fest/
CATEGORIES:Community
END:VEVENT
END:VCALENDAR